Package: DMRforPairs Version: 1.38.0 Command: /Library/Frameworks/R.framework/Resources/bin/R CMD build --keep-empty-dirs --no-resave-data DMRforPairs StartedAt: 2024-03-03 16:33:51 -0500 (Sun, 03 Mar 2024) EndedAt: 2024-03-03 16:35:16 -0500 (Sun, 03 Mar 2024) EllapsedTime: 84.6 seconds RetCode: 1 Status: ERROR PackageFile: None PackageFileSize: NA