Package: DMRforPairs Version: 1.38.0 Command: /Library/Frameworks/R.framework/Resources/bin/R CMD INSTALL DMRforPairs StartedAt: 2024-03-03 15:28:03 -0500 (Sun, 03 Mar 2024) EndedAt: 2024-03-03 15:29:09 -0500 (Sun, 03 Mar 2024) EllapsedTime: 66.0 seconds RetCode: 0 Status: OK