Package: DNABarcodes Version: 1.32.0 Command: /Library/Frameworks/R.framework/Resources/bin/R CMD INSTALL DNABarcodes StartedAt: 2024-03-03 15:30:51 -0500 (Sun, 03 Mar 2024) EndedAt: 2024-03-03 15:31:50 -0500 (Sun, 03 Mar 2024) EllapsedTime: 58.6 seconds RetCode: 1 Status: ERROR