Package: DOSE Version: 3.28.0 Command: /home/biocbuild/R/R-4.3.1/bin/R CMD build --keep-empty-dirs --no-resave-data DOSE StartedAt: 2023-11-02 00:29:12 -0000 (Thu, 02 Nov 2023) EndedAt: 2023-11-02 00:30:51 -0000 (Thu, 02 Nov 2023) EllapsedTime: 99.1 seconds RetCode: 0 Status: OK PackageFile: DOSE_3.28.0.tar.gz PackageFileSize: 6.494 MiB