Package: DOSE Version: 3.28.0 Command: /home/biocbuild/R/R-4.3.1/bin/R CMD check --install=check:DOSE.install-out.txt --library=/home/biocbuild/R/R-4.3.1/site-library --no-vignettes --timings DOSE_3.28.0.tar.gz StartedAt: 2023-11-02 10:06:12 -0000 (Thu, 02 Nov 2023) EndedAt: 2023-11-02 10:15:21 -0000 (Thu, 02 Nov 2023) EllapsedTime: 549.0 seconds RetCode: 0 Status: OK CheckDir: DOSE.Rcheck Warnings: 0