Package: DOSE Version: 3.28.2 Command: /Library/Frameworks/R.framework/Resources/bin/R CMD INSTALL DOSE StartedAt: 2024-03-03 15:32:06 -0500 (Sun, 03 Mar 2024) EndedAt: 2024-03-03 15:32:42 -0500 (Sun, 03 Mar 2024) EllapsedTime: 36.7 seconds RetCode: 0 Status: OK