Package: DOSE Version: 3.28.2 Command: /Library/Frameworks/R.framework/Resources/bin/R CMD build --keep-empty-dirs --no-resave-data DOSE StartedAt: 2024-04-15 18:23:54 -0400 (Mon, 15 Apr 2024) EndedAt: 2024-04-15 18:25:20 -0400 (Mon, 15 Apr 2024) EllapsedTime: 86.4 seconds RetCode: 0 Status: OK PackageFile: DOSE_3.28.2.tar.gz PackageFileSize: 6.492 MiB