Package: DOSE Version: 3.28.2 Command: /Library/Frameworks/R.framework/Resources/bin/R CMD INSTALL DOSE StartedAt: 2024-04-15 16:07:31 -0400 (Mon, 15 Apr 2024) EndedAt: 2024-04-15 16:08:33 -0400 (Mon, 15 Apr 2024) EllapsedTime: 62.5 seconds RetCode: 0 Status: OK