Package: DTA Version: 2.48.0 Command: /home/biocbuild/R/R-4.3.1/bin/R CMD build --keep-empty-dirs --no-resave-data DTA StartedAt: 2023-11-02 00:32:15 -0000 (Thu, 02 Nov 2023) EndedAt: 2023-11-02 00:39:49 -0000 (Thu, 02 Nov 2023) EllapsedTime: 453.6 seconds RetCode: 0 Status: OK PackageFile: DTA_2.48.0.tar.gz PackageFileSize: 10.66 MiB