Package: DTA Version: 2.48.0 Command: /Library/Frameworks/R.framework/Resources/bin/R CMD INSTALL DTA StartedAt: 2024-04-15 15:04:38 -0400 (Mon, 15 Apr 2024) EndedAt: 2024-04-15 15:04:50 -0400 (Mon, 15 Apr 2024) EllapsedTime: 12.0 seconds RetCode: 0 Status: OK