Package: DTA Version: 2.48.0 Command: rm -rf DTA.buildbin-libdir && mkdir DTA.buildbin-libdir && F:\biocbuild\bbs-3.18-bioc\R\bin\R.exe CMD INSTALL --build --library=DTA.buildbin-libdir DTA_2.48.0.tar.gz StartedAt: 2024-04-16 06:57:06 -0400 (Tue, 16 Apr 2024) EndedAt: 2024-04-16 06:57:28 -0400 (Tue, 16 Apr 2024) EllapsedTime: 22.1 seconds RetCode: 0 Status: OK PackageFile: DTA_2.48.0.zip PackageFileSize: 11.53 MiB