Package: DeMAND Version: 1.32.0 Command: /Library/Frameworks/R.framework/Resources/bin/R CMD INSTALL DeMAND StartedAt: 2024-04-15 15:04:33 -0400 (Mon, 15 Apr 2024) EndedAt: 2024-04-15 15:04:47 -0400 (Mon, 15 Apr 2024) EllapsedTime: 14.2 seconds RetCode: 0 Status: OK