Package: DeepPINCS Version: 1.10.0 Command: /home/biocbuild/R/R-4.3.1/bin/R CMD build --keep-empty-dirs --no-resave-data DeepPINCS StartedAt: 2023-11-02 00:05:27 -0000 (Thu, 02 Nov 2023) EndedAt: 2023-11-02 00:09:29 -0000 (Thu, 02 Nov 2023) EllapsedTime: 242.3 seconds RetCode: 0 Status: OK PackageFile: DeepPINCS_1.10.0.tar.gz PackageFileSize: 3.361 MiB