Package: DeepPINCS Version: 1.10.0 Command: /home/biocbuild/R/R-4.3.1/bin/R CMD check --install=check:DeepPINCS.install-out.txt --library=/home/biocbuild/R/R-4.3.1/site-library --no-vignettes --timings DeepPINCS_1.10.0.tar.gz StartedAt: 2023-11-02 09:50:30 -0000 (Thu, 02 Nov 2023) EndedAt: 2023-11-02 09:55:03 -0000 (Thu, 02 Nov 2023) EllapsedTime: 272.8 seconds RetCode: 0 Status: OK CheckDir: DeepPINCS.Rcheck Warnings: 0