Package: DeepPINCS Version: 1.10.0 Command: /home/biocbuild/R/R-4.3.1/bin/R CMD INSTALL DeepPINCS StartedAt: 2023-11-01 21:02:07 -0000 (Wed, 01 Nov 2023) EndedAt: 2023-11-01 21:02:32 -0000 (Wed, 01 Nov 2023) EllapsedTime: 24.2 seconds RetCode: 0 Status: OK