Package: DeepPINCS Version: 1.10.0 Command: /Library/Frameworks/R.framework/Resources/bin/R CMD build --keep-empty-dirs --no-resave-data DeepPINCS StartedAt: 2024-03-03 16:27:37 -0500 (Sun, 03 Mar 2024) EndedAt: 2024-03-03 16:31:30 -0500 (Sun, 03 Mar 2024) EllapsedTime: 232.8 seconds RetCode: 0 Status: OK PackageFile: DeepPINCS_1.10.0.tar.gz PackageFileSize: 3.089 MiB