Package: DeepPINCS Version: 1.10.0 Command: /Library/Frameworks/R.framework/Resources/bin/R CMD INSTALL DeepPINCS StartedAt: 2024-03-03 15:43:51 -0500 (Sun, 03 Mar 2024) EndedAt: 2024-03-03 15:44:15 -0500 (Sun, 03 Mar 2024) EllapsedTime: 23.7 seconds RetCode: 0 Status: OK