Package: DeepPINCS Version: 1.10.0 Command: chmod a+r DeepPINCS -R && F:\biocbuild\bbs-3.18-bioc\R\bin\R.exe CMD build --keep-empty-dirs --no-resave-data DeepPINCS StartedAt: 2024-04-15 17:55:48 -0400 (Mon, 15 Apr 2024) EndedAt: 2024-04-15 18:00:46 -0400 (Mon, 15 Apr 2024) EllapsedTime: 297.6 seconds RetCode: 0 Status: OK PackageFile: DeepPINCS_1.10.0.tar.gz PackageFileSize: 3.03 MiB