Package: DegNorm Version: 1.12.0 Command: /home/biocbuild/R/R-4.3.1/bin/R CMD check --install=check:DegNorm.install-out.txt --library=/home/biocbuild/R/R-4.3.1/site-library --no-vignettes --timings DegNorm_1.12.0.tar.gz StartedAt: 2023-11-02 09:51:13 -0000 (Thu, 02 Nov 2023) EndedAt: 2023-11-02 09:57:39 -0000 (Thu, 02 Nov 2023) EllapsedTime: 385.7 seconds RetCode: 1 Status: ERROR CheckDir: DegNorm.Rcheck Warnings: NA