Package: DegNorm Version: 1.12.0 Command: /Library/Frameworks/R.framework/Resources/bin/R CMD build --keep-empty-dirs --no-resave-data DegNorm StartedAt: 2024-03-03 16:27:51 -0500 (Sun, 03 Mar 2024) EndedAt: 2024-03-03 16:33:51 -0500 (Sun, 03 Mar 2024) EllapsedTime: 360.2 seconds RetCode: 0 Status: OK PackageFile: DegNorm_1.12.0.tar.gz PackageFileSize: 3.363 MiB