Package: DegNorm Version: 1.12.0 Command: /Library/Frameworks/R.framework/Resources/bin/R CMD build --keep-empty-dirs --no-resave-data DegNorm StartedAt: 2024-04-15 18:07:04 -0400 (Mon, 15 Apr 2024) EndedAt: 2024-04-15 18:17:54 -0400 (Mon, 15 Apr 2024) EllapsedTime: 650.2 seconds RetCode: 0 Status: OK PackageFile: DegNorm_1.12.0.tar.gz PackageFileSize: 3.399 MiB