Package: DegNorm Version: 1.12.0 Command: rm -rf DegNorm.buildbin-libdir && mkdir DegNorm.buildbin-libdir && F:\biocbuild\bbs-3.18-bioc\R\bin\R.exe CMD INSTALL --build --library=DegNorm.buildbin-libdir DegNorm_1.12.0.tar.gz StartedAt: 2024-04-16 06:54:00 -0400 (Tue, 16 Apr 2024) EndedAt: 2024-04-16 06:55:17 -0400 (Tue, 16 Apr 2024) EllapsedTime: 76.7 seconds RetCode: 0 Status: OK PackageFile: DegNorm_1.12.0.zip PackageFileSize: 3.433 MiB