Package: DegNorm Version: 1.12.0 Command: F:\biocbuild\bbs-3.18-bioc\R\bin\R.exe CMD INSTALL DegNorm StartedAt: 2024-04-15 16:34:04 -0400 (Mon, 15 Apr 2024) EndedAt: 2024-04-15 16:35:21 -0400 (Mon, 15 Apr 2024) EllapsedTime: 76.9 seconds RetCode: 0 Status: OK