Package: DiffBind Version: 3.12.0 Command: /home/biocbuild/bbs-3.18-bioc/R/bin/R CMD build --keep-empty-dirs --no-resave-data DiffBind StartedAt: 2024-04-15 16:49:58 -0400 (Mon, 15 Apr 2024) EndedAt: 2024-04-15 16:53:27 -0400 (Mon, 15 Apr 2024) EllapsedTime: 209.6 seconds RetCode: 0 Status: OK PackageFile: DiffBind_3.12.0.tar.gz PackageFileSize: 6.483 MiB