Package: DifferentialRegulation Version: 2.0.3 Command: /home/biocbuild/bbs-3.18-bioc/R/bin/R CMD build --keep-empty-dirs --no-resave-data DifferentialRegulation StartedAt: 2024-04-15 16:50:16 -0400 (Mon, 15 Apr 2024) EndedAt: 2024-04-15 16:53:12 -0400 (Mon, 15 Apr 2024) EllapsedTime: 175.8 seconds RetCode: 0 Status: OK PackageFile: DifferentialRegulation_2.0.3.tar.gz PackageFileSize: 2.759 MiB