Package: DifferentialRegulation Version: 2.0.3 Command: /home/biocbuild/bbs-3.18-bioc/R/bin/R CMD check --install=check:DifferentialRegulation.install-out.txt --library=/home/biocbuild/bbs-3.18-bioc/R/site-library --timings DifferentialRegulation_2.0.3.tar.gz StartedAt: 2024-04-15 22:09:45 -0400 (Mon, 15 Apr 2024) EndedAt: 2024-04-15 22:19:04 -0400 (Mon, 15 Apr 2024) EllapsedTime: 558.5 seconds RetCode: 0 Status: OK CheckDir: DifferentialRegulation.Rcheck Warnings: 0