Package: DifferentialRegulation Version: 2.0.3 Command: rm -rf DifferentialRegulation.buildbin-libdir && mkdir DifferentialRegulation.buildbin-libdir && F:\biocbuild\bbs-3.18-bioc\R\bin\R.exe CMD INSTALL --build --library=DifferentialRegulation.buildbin-libdir DifferentialRegulation_2.0.3.tar.gz StartedAt: 2024-04-16 06:55:29 -0400 (Tue, 16 Apr 2024) EndedAt: 2024-04-16 06:56:48 -0400 (Tue, 16 Apr 2024) EllapsedTime: 78.5 seconds RetCode: 0 Status: OK PackageFile: DifferentialRegulation_2.0.3.zip PackageFileSize: 2.851 MiB