Package: DirichletMultinomial Version: 1.44.0 Command: rm -rf DirichletMultinomial.buildbin-libdir && mkdir DirichletMultinomial.buildbin-libdir && /Users/biocbuild/BBS/utils/build-universal.sh DirichletMultinomial_1.44.0.tar.gz /Library/Frameworks/R.framework/Resources/bin/R DirichletMultinomial.buildbin-libdir StartedAt: 2024-03-04 00:38:27 -0500 (Mon, 04 Mar 2024) EndedAt: 2024-03-04 00:38:43 -0500 (Mon, 04 Mar 2024) EllapsedTime: 15.8 seconds RetCode: 0 Status: OK PackageFile: DirichletMultinomial_1.44.0.tgz PackageFileSize: 876.7 KiB