Package: DriverNet Version: 1.42.0 Command: /home/biocbuild/R/R-4.3.1/bin/R CMD check --install=check:DriverNet.install-out.txt --library=/home/biocbuild/R/R-4.3.1/site-library --no-vignettes --timings DriverNet_1.42.0.tar.gz StartedAt: 2023-11-02 10:08:14 -0000 (Thu, 02 Nov 2023) EndedAt: 2023-11-02 10:09:47 -0000 (Thu, 02 Nov 2023) EllapsedTime: 93.6 seconds RetCode: 0 Status: OK CheckDir: DriverNet.Rcheck Warnings: 0