Package: DropletUtils Version: 1.22.0 Command: /home/biocbuild/R/R-4.3.1/bin/R CMD INSTALL DropletUtils StartedAt: 2023-11-01 20:31:44 -0000 (Wed, 01 Nov 2023) EndedAt: 2023-11-01 20:33:52 -0000 (Wed, 01 Nov 2023) EllapsedTime: 128.4 seconds RetCode: 0 Status: OK