Package: DropletUtils Version: 1.22.0 Command: rm -rf DropletUtils.buildbin-libdir && mkdir DropletUtils.buildbin-libdir && /Users/biocbuild/BBS/utils/build-universal.sh DropletUtils_1.22.0.tar.gz /Library/Frameworks/R.framework/Resources/bin/R DropletUtils.buildbin-libdir StartedAt: 2024-03-04 00:39:03 -0500 (Mon, 04 Mar 2024) EndedAt: 2024-03-04 00:40:43 -0500 (Mon, 04 Mar 2024) EllapsedTime: 100.5 seconds RetCode: 0 Status: OK PackageFile: DropletUtils_1.22.0.tgz PackageFileSize: 2.278 MiB