Package: DropletUtils Version: 1.22.0 Command: /home/biocbuild/bbs-3.18-bioc/R/bin/R CMD check --install=check:DropletUtils.install-out.txt --library=/home/biocbuild/bbs-3.18-bioc/R/site-library --timings DropletUtils_1.22.0.tar.gz StartedAt: 2024-04-15 22:19:21 -0400 (Mon, 15 Apr 2024) EndedAt: 2024-04-15 22:26:12 -0400 (Mon, 15 Apr 2024) EllapsedTime: 411.4 seconds RetCode: 0 Status: WARNINGS CheckDir: DropletUtils.Rcheck Warnings: 1