Package: DropletUtils Version: 1.22.0 Command: rm -rf DropletUtils.buildbin-libdir && mkdir DropletUtils.buildbin-libdir && F:\biocbuild\bbs-3.18-bioc\R\bin\R.exe CMD INSTALL --build --library=DropletUtils.buildbin-libdir DropletUtils_1.22.0.tar.gz StartedAt: 2024-04-16 06:56:57 -0400 (Tue, 16 Apr 2024) EndedAt: 2024-04-16 06:58:51 -0400 (Tue, 16 Apr 2024) EllapsedTime: 114.5 seconds RetCode: 0 Status: OK PackageFile: DropletUtils_1.22.0.zip PackageFileSize: 2.096 MiB