Package: EBImage Version: 4.44.0 Command: /Library/Frameworks/R.framework/Resources/bin/R CMD build --keep-empty-dirs --no-resave-data EBImage StartedAt: 2024-04-15 18:27:04 -0400 (Mon, 15 Apr 2024) EndedAt: 2024-04-15 18:28:17 -0400 (Mon, 15 Apr 2024) EllapsedTime: 72.4 seconds RetCode: 0 Status: OK PackageFile: EBImage_4.44.0.tar.gz PackageFileSize: 6.296 MiB