Package: EBSEA Version: 1.30.0 Command: rm -rf EBSEA.buildbin-libdir && mkdir EBSEA.buildbin-libdir && /Users/biocbuild/BBS/utils/build-universal.sh EBSEA_1.30.0.tar.gz /Library/Frameworks/R.framework/Resources/bin/R EBSEA.buildbin-libdir StartedAt: 2024-04-16 11:34:44 -0400 (Tue, 16 Apr 2024) EndedAt: 2024-04-16 11:35:58 -0400 (Tue, 16 Apr 2024) EllapsedTime: 74.5 seconds RetCode: 0 Status: OK PackageFile: EBSEA_1.30.0.tgz PackageFileSize: 75.83 KiB