Package: EBSeq Version: 2.0.0 Command: rm -rf EBSeq.buildbin-libdir && mkdir EBSeq.buildbin-libdir && /Users/biocbuild/BBS/utils/build-universal.sh EBSeq_2.0.0.tar.gz /Library/Frameworks/R.framework/Resources/bin/R EBSeq.buildbin-libdir StartedAt: 2024-03-04 00:39:26 -0500 (Mon, 04 Mar 2024) EndedAt: 2024-03-04 00:40:04 -0500 (Mon, 04 Mar 2024) EllapsedTime: 38.2 seconds RetCode: 0 Status: OK PackageFile: EBSeq_2.0.0.tgz PackageFileSize: 1.189 MiB