Package: EBcoexpress Version: 1.46.0 Command: /home/biocbuild/R/R-4.3.1/bin/R CMD build --keep-empty-dirs --no-resave-data EBcoexpress StartedAt: 2023-11-02 00:34:17 -0000 (Thu, 02 Nov 2023) EndedAt: 2023-11-02 00:34:43 -0000 (Thu, 02 Nov 2023) EllapsedTime: 26.0 seconds RetCode: 0 Status: OK PackageFile: EBcoexpress_1.46.0.tar.gz PackageFileSize: 2.961 MiB