Package: EBcoexpress Version: 1.46.0 Command: /home/biocbuild/R/R-4.3.1/bin/R CMD check --install=check:EBcoexpress.install-out.txt --library=/home/biocbuild/R/R-4.3.1/site-library --no-vignettes --timings EBcoexpress_1.46.0.tar.gz StartedAt: 2023-11-02 10:11:15 -0000 (Thu, 02 Nov 2023) EndedAt: 2023-11-02 10:11:48 -0000 (Thu, 02 Nov 2023) EllapsedTime: 33.1 seconds RetCode: 0 Status: WARNINGS CheckDir: EBcoexpress.Rcheck Warnings: 1