Package: EDASeq Version: 2.36.0 Command: /home/biocbuild/bbs-3.18-bioc/R/bin/R CMD check --install=check:EDASeq.install-out.txt --library=/home/biocbuild/bbs-3.18-bioc/R/site-library --timings EDASeq_2.36.0.tar.gz StartedAt: 2024-04-15 22:23:56 -0400 (Mon, 15 Apr 2024) EndedAt: 2024-04-15 22:29:24 -0400 (Mon, 15 Apr 2024) EllapsedTime: 328.4 seconds RetCode: 0 Status: OK CheckDir: EDASeq.Rcheck Warnings: 0