Package: EDASeq Version: 2.36.0 Command: /home/biocbuild/bbs-3.18-bioc/R/bin/R CMD INSTALL EDASeq StartedAt: 2024-04-15 15:25:07 -0400 (Mon, 15 Apr 2024) EndedAt: 2024-04-15 15:25:50 -0400 (Mon, 15 Apr 2024) EllapsedTime: 42.6 seconds RetCode: 0 Status: OK