Package: EDIRquery Version: 1.2.0 Command: rm -rf EDIRquery.buildbin-libdir && mkdir EDIRquery.buildbin-libdir && F:\biocbuild\bbs-3.18-bioc\R\bin\R.exe CMD INSTALL --build --library=EDIRquery.buildbin-libdir EDIRquery_1.2.0.tar.gz StartedAt: 2024-04-16 06:57:43 -0400 (Tue, 16 Apr 2024) EndedAt: 2024-04-16 06:58:20 -0400 (Tue, 16 Apr 2024) EllapsedTime: 37.2 seconds RetCode: 0 Status: OK PackageFile: EDIRquery_1.2.0.zip PackageFileSize: 1.692 MiB