Package: EGSEA
Version: 1.30.1
Command: F:\biocbuild\bbs-3.18-bioc\R\bin\R.exe CMD check --no-multiarch --install=check:EGSEA.install-out.txt --library=F:\biocbuild\bbs-3.18-bioc\R\library --no-vignettes --timings EGSEA_1.30.1.tar.gz
StartedAt: 2024-04-16 00:28:03 -0400 (Tue, 16 Apr 2024)
EndedAt: 2024-04-16 00:37:15 -0400 (Tue, 16 Apr 2024)
EllapsedTime: 552.0 seconds
RetCode: 0
Status: OK
CheckDir: EGSEA.Rcheck
Warnings: 0