Package: EmpiricalBrownsMethod Version: 1.30.0 Command: /home/biocbuild/R/R-4.3.1/bin/R CMD build --keep-empty-dirs --no-resave-data EmpiricalBrownsMethod StartedAt: 2023-11-02 00:39:55 -0000 (Thu, 02 Nov 2023) EndedAt: 2023-11-02 00:39:59 -0000 (Thu, 02 Nov 2023) EllapsedTime: 4.0 seconds RetCode: 0 Status: OK PackageFile: EmpiricalBrownsMethod_1.30.0.tar.gz PackageFileSize: 39.16 KiB