Package: EnhancedVolcano Version: 1.20.0 Command: rm -rf EnhancedVolcano.buildbin-libdir && mkdir EnhancedVolcano.buildbin-libdir && /Users/biocbuild/BBS/utils/build-universal.sh EnhancedVolcano_1.20.0.tar.gz /Library/Frameworks/R.framework/Resources/bin/R EnhancedVolcano.buildbin-libdir StartedAt: 2024-04-16 11:35:57 -0400 (Tue, 16 Apr 2024) EndedAt: 2024-04-16 11:36:14 -0400 (Tue, 16 Apr 2024) EllapsedTime: 17.4 seconds RetCode: 0 Status: OK PackageFile: EnhancedVolcano_1.20.0.tgz PackageFileSize: 5.792 MiB