Package: EnhancedVolcano Version: 1.20.0 Command: /home/biocbuild/bbs-3.18-bioc/R/bin/R CMD check --install=check:EnhancedVolcano.install-out.txt --library=/home/biocbuild/bbs-3.18-bioc/R/site-library --timings EnhancedVolcano_1.20.0.tar.gz StartedAt: 2024-04-15 22:26:21 -0400 (Mon, 15 Apr 2024) EndedAt: 2024-04-15 22:29:19 -0400 (Mon, 15 Apr 2024) EllapsedTime: 178.6 seconds RetCode: 1 Status: ERROR CheckDir: EnhancedVolcano.Rcheck Warnings: NA