Package: EnrichedHeatmap Version: 1.32.0 Command: /home/biocbuild/R/R-4.3.1/bin/R CMD INSTALL EnrichedHeatmap StartedAt: 2023-11-01 20:25:09 -0000 (Wed, 01 Nov 2023) EndedAt: 2023-11-01 20:25:41 -0000 (Wed, 01 Nov 2023) EllapsedTime: 31.9 seconds RetCode: 0 Status: OK