Package: EnrichmentBrowser Version: 2.32.0 Command: /Library/Frameworks/R.framework/Resources/bin/R CMD check --install=check:EnrichmentBrowser.install-out.txt --library=/Library/Frameworks/R.framework/Resources/library --no-vignettes --timings EnrichmentBrowser_2.32.0.tar.gz StartedAt: 2024-03-03 20:24:27 -0500 (Sun, 03 Mar 2024) EndedAt: 2024-03-03 20:31:40 -0500 (Sun, 03 Mar 2024) EllapsedTime: 432.9 seconds RetCode: 0 Status: OK CheckDir: EnrichmentBrowser.Rcheck Warnings: 0