Package: EpiCompare Version: 1.6.0 Command: /home/biocbuild/R/R-4.3.1/bin/R CMD build --keep-empty-dirs --no-resave-data EpiCompare StartedAt: 2023-11-02 00:44:52 -0000 (Thu, 02 Nov 2023) EndedAt: 2023-11-02 00:48:29 -0000 (Thu, 02 Nov 2023) EllapsedTime: 217.3 seconds RetCode: 0 Status: OK PackageFile: EpiCompare_1.6.0.tar.gz PackageFileSize: 6.809 MiB