Package: EpiCompare Version: 1.6.5 Command: /Library/Frameworks/R.framework/Resources/bin/R CMD INSTALL EpiCompare StartedAt: 2024-03-03 15:44:44 -0500 (Sun, 03 Mar 2024) EndedAt: 2024-03-03 15:45:55 -0500 (Sun, 03 Mar 2024) EllapsedTime: 71.0 seconds RetCode: 0 Status: OK