Package: EpiCompare Version: 1.6.7 Command: /Library/Frameworks/R.framework/Resources/bin/R CMD INSTALL EpiCompare StartedAt: 2024-04-15 16:39:54 -0400 (Mon, 15 Apr 2024) EndedAt: 2024-04-15 16:41:39 -0400 (Mon, 15 Apr 2024) EllapsedTime: 104.9 seconds RetCode: 0 Status: OK